Package: crisprShiny Version: 1.7.0 Command: /home/biocbuild/bbs-3.23-bioc/R/bin/R CMD INSTALL crisprShiny StartedAt: 2025-11-20 15:50:41 -0500 (Thu, 20 Nov 2025) EndedAt: 2025-11-20 15:50:52 -0500 (Thu, 20 Nov 2025) EllapsedTime: 10.5 seconds RetCode: 1 Status: ERROR