############################################################################## ############################################################################## ### ### Running command: ### ### /home/biocbuild/bbs-3.23-bioc/R/bin/R CMD INSTALL crisprShiny ### ############################################################################## ############################################################################## * installing to library ‘/home/biocbuild/bbs-3.23-bioc/R/site-library’ * installing *source* package ‘crisprShiny’ ... ** this is package ‘crisprShiny’ version ‘1.7.0’ ** using staged installation ** R ** data ** inst ** byte-compile and prepare package for lazy loading Error: object ‘compareStrings’ is not exported by 'namespace:Biostrings' Execution halted ERROR: lazy loading failed for package ‘crisprShiny’ * removing ‘/home/biocbuild/bbs-3.23-bioc/R/site-library/crisprShiny’ * restoring previous ‘/home/biocbuild/bbs-3.23-bioc/R/site-library/crisprShiny’