Package: crisprShiny Version: 1.7.0 Command: /home/biocbuild/bbs-3.23-bioc/R/bin/R CMD build --keep-empty-dirs --no-resave-data crisprShiny StartedAt: 2025-11-20 17:03:06 -0500 (Thu, 20 Nov 2025) EndedAt: 2025-11-20 17:03:17 -0500 (Thu, 20 Nov 2025) EllapsedTime: 11.0 seconds RetCode: 1 Status: ERROR PackageFile: None PackageFileSize: NA