Package: crisprShiny Version: 1.5.1 Command: /Library/Frameworks/R.framework/Resources/bin/R CMD INSTALL crisprShiny StartedAt: 2025-10-20 15:27:26 -0400 (Mon, 20 Oct 2025) EndedAt: 2025-10-20 15:27:48 -0400 (Mon, 20 Oct 2025) EllapsedTime: 21.9 seconds RetCode: 0 Status: OK