Package: crisprShiny Version: 1.5.1 Command: /Library/Frameworks/R.framework/Resources/bin/R CMD build --keep-empty-dirs --no-resave-data crisprShiny StartedAt: 2025-10-20 16:03:05 -0400 (Mon, 20 Oct 2025) EndedAt: 2025-10-20 16:03:30 -0400 (Mon, 20 Oct 2025) EllapsedTime: 25.3 seconds RetCode: 0 Status: OK PackageFile: crisprShiny_1.5.1.tar.gz PackageFileSize: 1.581 MiB