Package: crisprShiny Version: 1.5.1 Command: rm -rf crisprShiny.buildbin-libdir && mkdir crisprShiny.buildbin-libdir && /Users/biocbuild/BBS/utils/build-universal.sh crisprShiny_1.5.1.tar.gz /Library/Frameworks/R.framework/Resources/bin/R crisprShiny.buildbin-libdir StartedAt: 2025-10-20 22:56:44 -0400 (Mon, 20 Oct 2025) EndedAt: 2025-10-20 22:57:06 -0400 (Mon, 20 Oct 2025) EllapsedTime: 22.4 seconds RetCode: 0 Status: OK PackageFile: crisprShiny_1.5.1.tgz PackageFileSize: 1.29 MiB