Package: crisprScore Version: 1.15.0 Command: /home/biocbuild/bbs-3.23-bioc/R/bin/R CMD INSTALL crisprScore StartedAt: 2025-11-20 15:28:00 -0500 (Thu, 20 Nov 2025) EndedAt: 2025-11-20 15:28:16 -0500 (Thu, 20 Nov 2025) EllapsedTime: 15.7 seconds RetCode: 0 Status: OK