Package: crisprScore Version: 1.13.1 Command: /Library/Frameworks/R.framework/Resources/bin/R CMD INSTALL crisprScore StartedAt: 2025-10-10 15:30:22 -0400 (Fri, 10 Oct 2025) EndedAt: 2025-10-10 15:30:46 -0400 (Fri, 10 Oct 2025) EllapsedTime: 24.4 seconds RetCode: 0 Status: OK