Package: crisprScore Version: 1.13.1 Command: /Library/Frameworks/R.framework/Resources/bin/R CMD build --keep-empty-dirs --no-resave-data crisprScore StartedAt: 2025-10-10 16:41:27 -0400 (Fri, 10 Oct 2025) EndedAt: 2025-10-10 16:42:13 -0400 (Fri, 10 Oct 2025) EllapsedTime: 45.9 seconds RetCode: 0 Status: OK PackageFile: crisprScore_1.13.1.tar.gz PackageFileSize: 4.506 MiB