Package: crisprScore Version: 1.13.1 Command: rm -rf crisprScore.buildbin-libdir && mkdir crisprScore.buildbin-libdir && /Users/biocbuild/BBS/utils/build-universal.sh crisprScore_1.13.1.tar.gz /Library/Frameworks/R.framework/Resources/bin/R crisprScore.buildbin-libdir StartedAt: 2025-10-13 02:27:41 -0400 (Mon, 13 Oct 2025) EndedAt: 2025-10-13 02:28:10 -0400 (Mon, 13 Oct 2025) EllapsedTime: 28.7 seconds RetCode: 0 Status: OK PackageFile: crisprScore_1.13.1.tgz PackageFileSize: 4.403 MiB