Package: crisprDesign Version: 1.13.0 Command: /home/biocbuild/bbs-3.23-bioc/R/bin/R CMD INSTALL crisprDesign StartedAt: 2025-11-03 15:43:23 -0500 (Mon, 03 Nov 2025) EndedAt: 2025-11-03 15:44:15 -0500 (Mon, 03 Nov 2025) EllapsedTime: 51.9 seconds RetCode: 0 Status: OK