Package: crisprDesign Version: 1.13.0 Command: /home/biocbuild/bbs-3.23-bioc/R/bin/R CMD build --keep-empty-dirs --no-resave-data crisprDesign StartedAt: 2025-11-03 16:57:51 -0500 (Mon, 03 Nov 2025) EndedAt: 2025-11-03 16:59:28 -0500 (Mon, 03 Nov 2025) EllapsedTime: 96.1 seconds RetCode: 0 Status: OK PackageFile: crisprDesign_1.13.0.tar.gz PackageFileSize: 2.608 MiB