Package: crisprDesign Version: 1.11.1 Command: /Library/Frameworks/R.framework/Resources/bin/R CMD INSTALL crisprDesign StartedAt: 2025-10-08 15:43:16 -0400 (Wed, 08 Oct 2025) EndedAt: 2025-10-08 15:44:26 -0400 (Wed, 08 Oct 2025) EllapsedTime: 70.4 seconds RetCode: 0 Status: OK