Package: crisprDesign Version: 1.11.1 Command: rm -rf crisprDesign.buildbin-libdir && mkdir crisprDesign.buildbin-libdir && /Users/biocbuild/BBS/utils/build-universal.sh crisprDesign_1.11.1.tar.gz /Library/Frameworks/R.framework/Resources/bin/R crisprDesign.buildbin-libdir StartedAt: 2025-10-09 02:26:37 -0400 (Thu, 09 Oct 2025) EndedAt: 2025-10-09 02:27:51 -0400 (Thu, 09 Oct 2025) EllapsedTime: 74.1 seconds RetCode: 0 Status: OK PackageFile: crisprDesign_1.11.1.tgz PackageFileSize: 3.59 MiB