Package: crisprBwa Version: 1.13.1 Command: /home/biocbuild/bbs-3.22-bioc/R/bin/R CMD INSTALL crisprBwa StartedAt: 2025-10-09 15:49:06 -0400 (Thu, 09 Oct 2025) EndedAt: 2025-10-09 15:49:41 -0400 (Thu, 09 Oct 2025) EllapsedTime: 35.3 seconds RetCode: 0 Status: OK