Package: crisprBwa Version: 1.13.1 Command: /home/biocbuild/bbs-3.22-bioc/R/bin/R CMD build --keep-empty-dirs --no-resave-data --md5 crisprBwa StartedAt: 2025-10-10 17:15:44 -0400 (Fri, 10 Oct 2025) EndedAt: 2025-10-10 17:16:46 -0400 (Fri, 10 Oct 2025) EllapsedTime: 62.1 seconds RetCode: 0 Status: OK PackageFile: crisprBwa_1.13.1.tar.gz PackageFileSize: 360.5 KiB