Package: crisprBowtie Version: 1.13.1 Command: /home/biocbuild/bbs-3.22-bioc/R/bin/R CMD INSTALL crisprBowtie StartedAt: 2025-10-03 15:30:41 -0400 (Fri, 03 Oct 2025) EndedAt: 2025-10-03 15:31:12 -0400 (Fri, 03 Oct 2025) EllapsedTime: 31.5 seconds RetCode: 0 Status: OK