Package: crisprBowtie Version: 1.13.1 Command: /home/biocbuild/bbs-3.22-bioc/R/bin/R CMD build --keep-empty-dirs --no-resave-data --md5 crisprBowtie StartedAt: 2025-10-03 17:01:03 -0400 (Fri, 03 Oct 2025) EndedAt: 2025-10-03 17:02:12 -0400 (Fri, 03 Oct 2025) EllapsedTime: 69.1 seconds RetCode: 0 Status: OK PackageFile: crisprBowtie_1.13.1.tar.gz PackageFileSize: 320.7 KiB