Package: crisprBowtie Version: 1.15.0 Command: /Library/Frameworks/R.framework/Resources/bin/R CMD INSTALL crisprBowtie StartedAt: 2025-11-21 15:17:52 -0500 (Fri, 21 Nov 2025) EndedAt: 2025-11-21 15:18:06 -0500 (Fri, 21 Nov 2025) EllapsedTime: 13.7 seconds RetCode: 0 Status: OK