Package: crisprBowtie Version: 1.15.0 Command: /Library/Frameworks/R.framework/Resources/bin/R CMD build --keep-empty-dirs --no-resave-data crisprBowtie StartedAt: 2025-11-21 16:00:55 -0500 (Fri, 21 Nov 2025) EndedAt: 2025-11-21 16:01:14 -0500 (Fri, 21 Nov 2025) EllapsedTime: 19.2 seconds RetCode: 0 Status: OK PackageFile: crisprBowtie_1.15.0.tar.gz PackageFileSize: 319.3 KiB