Package: crisprBowtie Version: 1.15.0 Command: rm -rf crisprBowtie.buildbin-libdir && mkdir crisprBowtie.buildbin-libdir && /Users/biocbuild/BBS/utils/build-universal.sh crisprBowtie_1.15.0.tar.gz /Library/Frameworks/R.framework/Resources/bin/R crisprBowtie.buildbin-libdir StartedAt: 2025-11-21 23:28:03 -0500 (Fri, 21 Nov 2025) EndedAt: 2025-11-21 23:28:20 -0500 (Fri, 21 Nov 2025) EllapsedTime: 16.3 seconds RetCode: 0 Status: OK PackageFile: crisprBowtie_1.15.0.tgz PackageFileSize: 335.6 KiB