Package: crisprBase Version: 1.13.0 Command: /home/biocbuild/R/R/bin/R CMD INSTALL crisprBase StartedAt: 2025-10-13 20:50:20 -0000 (Mon, 13 Oct 2025) EndedAt: 2025-10-13 20:50:41 -0000 (Mon, 13 Oct 2025) EllapsedTime: 20.5 seconds RetCode: 0 Status: OK