Package: crisprBase Version: 1.13.0 Command: /home/biocbuild/R/R/bin/R CMD build --keep-empty-dirs --no-resave-data crisprBase StartedAt: 2025-10-09 23:48:40 -0000 (Thu, 09 Oct 2025) EndedAt: 2025-10-09 23:49:13 -0000 (Thu, 09 Oct 2025) EllapsedTime: 33.0 seconds RetCode: 0 Status: OK PackageFile: crisprBase_1.13.0.tar.gz PackageFileSize: 1.76 MiB