Package: crisprBase Version: 1.13.0 Command: rm -rf crisprBase.buildbin-libdir && mkdir crisprBase.buildbin-libdir && F:\biocbuild\bbs-3.22-bioc\R\bin\R.exe CMD INSTALL --build --library=crisprBase.buildbin-libdir crisprBase_1.13.0.tar.gz StartedAt: 2025-08-15 10:02:39 -0400 (Fri, 15 Aug 2025) EndedAt: 2025-08-15 10:04:03 -0400 (Fri, 15 Aug 2025) EllapsedTime: 83.2 seconds RetCode: 0 Status: OK PackageFile: crisprBase_1.13.0.zip PackageFileSize: 1.467 MiB