Package: crisprBase Version: 1.13.0 Command: /home/biocbuild/bbs-3.22-bioc/R/bin/R CMD check --install=check:crisprBase.install-out.txt --library=/home/biocbuild/bbs-3.22-bioc/R/site-library --timings crisprBase_1.13.0.tar.gz StartedAt: 2025-10-06 22:39:57 -0400 (Mon, 06 Oct 2025) EndedAt: 2025-10-06 22:42:33 -0400 (Mon, 06 Oct 2025) EllapsedTime: 156.2 seconds RetCode: 0 Status: OK CheckDir: crisprBase.Rcheck Warnings: 0