Package: crisprBase Version: 1.15.0 Command: /home/biocbuild/bbs-3.23-bioc/R/bin/R CMD INSTALL crisprBase StartedAt: 2025-11-04 15:14:15 -0500 (Tue, 04 Nov 2025) EndedAt: 2025-11-04 15:14:29 -0500 (Tue, 04 Nov 2025) EllapsedTime: 14.7 seconds RetCode: 0 Status: OK