Package: crisprBase Version: 1.15.0 Command: /home/biocbuild/bbs-3.23-bioc/R/bin/R CMD check --install=check:crisprBase.install-out.txt --library=/home/biocbuild/bbs-3.23-bioc/R/site-library --timings crisprBase_1.15.0.tar.gz StartedAt: 2025-11-07 22:18:35 -0500 (Fri, 07 Nov 2025) EndedAt: 2025-11-07 22:20:12 -0500 (Fri, 07 Nov 2025) EllapsedTime: 97.1 seconds RetCode: 0 Status: WARNINGS CheckDir: crisprBase.Rcheck Warnings: 1