Package: crisprBase Version: 1.15.0 Command: /home/biocbuild/bbs-3.23-bioc/R/bin/R CMD build --keep-empty-dirs --no-resave-data crisprBase StartedAt: 2025-11-04 16:57:53 -0500 (Tue, 04 Nov 2025) EndedAt: 2025-11-04 16:58:16 -0500 (Tue, 04 Nov 2025) EllapsedTime: 23.0 seconds RetCode: 0 Status: OK PackageFile: crisprBase_1.15.0.tar.gz PackageFileSize: 1.751 MiB