Back to Build/check report for BioC 3.23:   simplified   long
AB[C]DEFGHIJKLMNOPQRSTUVWXYZ

This page was generated on 2025-11-03 11:32 -0500 (Mon, 03 Nov 2025).

HostnameOSArch (*)R versionInstalled pkgs
nebbiolo1Linux (Ubuntu 24.04.3 LTS)x86_64R Under development (unstable) (2025-10-20 r88955) -- "Unsuffered Consequences" 4775
Click on any hostname to see more info about the system (e.g. compilers)      (*) as reported by 'uname -p', except on Windows and Mac OS X

All results for package crisprBase


To the developers/maintainers of the crisprBase package:
- Allow up to 24 hours (and sometimes 48 hours) for your latest push to git@git.bioconductor.org:packages/crisprBase.git to reflect on this report. See Troubleshooting Build Report for more information.
- Use the following Renviron settings to reproduce errors and warnings.
- If 'R CMD check' started to fail recently on the Linux builder(s) over a missing dependency, add the missing dependency to 'Suggests:' in your DESCRIPTION file. See Renviron.bioc for more information.

raw results

Package 460/2321HostnameOS / ArchINSTALLBUILDCHECKBUILD BIN
crisprBase 1.15.0  (landing page)
Jean-Philippe Fortin
Snapshot Date: 2025-11-02 13:40 -0500 (Sun, 02 Nov 2025)
git_url: https://git.bioconductor.org/packages/crisprBase
git_branch: devel
git_last_commit: 8c55499
git_last_commit_date: 2025-10-29 11:14:18 -0500 (Wed, 29 Oct 2025)
nebbiolo1Linux (Ubuntu 24.04.3 LTS) / x86_64  OK    OK    WARNINGS  UNNEEDED, same version is already published



Results for Bioconductor software packages that depend directly on package crisprBase

QUICK STATSOS / ArchINSTALLBUILDCHECKBUILD BIN
nebbiolo1Linux (Ubuntu 24.04.3 LTS) / x86_64
015
015
0005
Package 1/6HostnameOS / ArchINSTALLBUILDCHECKBUILD BIN
crisprBowtie 1.15.0  (landing page)
Jean-Philippe Fortin
git_last_commit: 5838b33
git_last_commit_date: 2025-10-29 11:15:03 -0500
nebbiolo1Linux (Ubuntu 24.04.3 LTS) / x86_64  OK    OK    OK  NO, package depends on 'BSgenome' which is not available
Package 2/6HostnameOS / ArchINSTALLBUILDCHECKBUILD BIN
crisprBwa 1.15.0  (landing page)
Jean-Philippe Fortin
git_last_commit: cff26fd
git_last_commit_date: 2025-10-29 11:16:38 -0500
nebbiolo1Linux (Ubuntu 24.04.3 LTS) / x86_64  OK    OK    OK  NO, package depends on 'BSgenome' which is not available
Package 3/6HostnameOS / ArchINSTALLBUILDCHECKBUILD BIN
crisprDesign 1.13.0  (landing page)
Jean-Philippe Fortin
git_last_commit: dd162c8
git_last_commit_date: 2025-10-29 11:17:54 -0500
nebbiolo1Linux (Ubuntu 24.04.3 LTS) / x86_64  OK    OK    OK  NO, package depends on 'BSgenome' which is not available
Package 4/6HostnameOS / ArchINSTALLBUILDCHECKBUILD BIN
crisprShiny 1.7.0  (landing page)
Jean-Philippe Fortin
git_last_commit: e4da799
git_last_commit_date: 2025-10-29 11:28:01 -0500
nebbiolo1Linux (Ubuntu 24.04.3 LTS) / x86_64  ERROR    ERROR  skipped
Package 5/6HostnameOS / ArchINSTALLBUILDCHECKBUILD BIN
crisprVerse 1.13.0  (landing page)
Jean-Philippe Fortin
git_last_commit: e25997b
git_last_commit_date: 2025-10-29 11:18:15 -0500
nebbiolo1Linux (Ubuntu 24.04.3 LTS) / x86_64  OK    OK    OK  NO, package depends on 'crisprBowtie' which is not available
Package 6/6HostnameOS / ArchINSTALLBUILDCHECKBUILD BIN
crisprViz 1.13.0  (landing page)
Jean-Philippe Fortin
git_last_commit: e839b44
git_last_commit_date: 2025-10-29 11:18:46 -0500
nebbiolo1Linux (Ubuntu 24.04.3 LTS) / x86_64  OK    OK    OK  NO, package depends on 'crisprDesign' which is not available