Package: cqn Version: 1.57.0 Command: /home/biocbuild/bbs-3.23-bioc/R/bin/R CMD INSTALL cqn StartedAt: 2025-11-03 15:04:53 -0500 (Mon, 03 Nov 2025) EndedAt: 2025-11-03 15:04:58 -0500 (Mon, 03 Nov 2025) EllapsedTime: 5.2 seconds RetCode: 0 Status: OK