Package: cqn Version: 1.57.0 Command: /home/biocbuild/bbs-3.23-bioc/R/bin/R CMD build --keep-empty-dirs --no-resave-data cqn StartedAt: 2025-11-03 16:57:12 -0500 (Mon, 03 Nov 2025) EndedAt: 2025-11-03 16:57:28 -0500 (Mon, 03 Nov 2025) EllapsedTime: 16.0 seconds RetCode: 0 Status: OK PackageFile: cqn_1.57.0.tar.gz PackageFileSize: 979.5 KiB