Package: cqn Version: 1.57.0 Command: /Library/Frameworks/R.framework/Resources/bin/R CMD INSTALL cqn StartedAt: 2025-11-23 15:17:36 -0500 (Sun, 23 Nov 2025) EndedAt: 2025-11-23 15:18:09 -0500 (Sun, 23 Nov 2025) EllapsedTime: 32.5 seconds RetCode: 0 Status: OK