Package: cqn Version: 1.57.0 Command: /Library/Frameworks/R.framework/Resources/bin/R CMD build --keep-empty-dirs --no-resave-data cqn StartedAt: 2025-11-23 16:41:39 -0500 (Sun, 23 Nov 2025) EndedAt: 2025-11-23 16:42:03 -0500 (Sun, 23 Nov 2025) EllapsedTime: 24.0 seconds RetCode: 0 Status: OK PackageFile: cqn_1.57.0.tar.gz PackageFileSize: 1.036 MiB