Package: cqn Version: 1.57.0 Command: /Library/Frameworks/R.framework/Resources/bin/R CMD INSTALL cqn StartedAt: 2025-11-21 15:03:10 -0500 (Fri, 21 Nov 2025) EndedAt: 2025-11-21 15:03:15 -0500 (Fri, 21 Nov 2025) EllapsedTime: 4.4 seconds RetCode: 0 Status: OK