Package: cqn Version: 1.57.0 Command: /Library/Frameworks/R.framework/Resources/bin/R CMD build --keep-empty-dirs --no-resave-data cqn StartedAt: 2025-11-21 16:00:42 -0500 (Fri, 21 Nov 2025) EndedAt: 2025-11-21 16:00:51 -0500 (Fri, 21 Nov 2025) EllapsedTime: 9.1 seconds RetCode: 0 Status: OK PackageFile: cqn_1.57.0.tar.gz PackageFileSize: 1.041 MiB