Package: cqn Version: 1.57.0 Command: rm -rf cqn.buildbin-libdir && mkdir cqn.buildbin-libdir && /Users/biocbuild/BBS/utils/build-universal.sh cqn_1.57.0.tar.gz /Library/Frameworks/R.framework/Resources/bin/R cqn.buildbin-libdir StartedAt: 2025-11-21 23:28:00 -0500 (Fri, 21 Nov 2025) EndedAt: 2025-11-21 23:28:05 -0500 (Fri, 21 Nov 2025) EllapsedTime: 4.1 seconds RetCode: 0 Status: OK PackageFile: cqn_1.57.0.tgz PackageFileSize: 1.06 MiB