Back to Build/check report for BioC 3.23:   simplified   long
AB[C]DEFGHIJKLMNOPQRSTUVWXYZ

This page was generated on 2025-10-31 08:34 -0400 (Fri, 31 Oct 2025).

HostnameOSArch (*)R versionInstalled pkgs
nebbiolo1Linux (Ubuntu 24.04.3 LTS)x86_64R Under development (unstable) (2025-10-20 r88955) -- "Unsuffered Consequences" 4428
Click on any hostname to see more info about the system (e.g. compilers)      (*) as reported by 'uname -p', except on Windows and Mac OS X

All results for package cqn


To the developers/maintainers of the cqn package:
- Allow up to 24 hours (and sometimes 48 hours) for your latest push to git@git.bioconductor.org:packages/cqn.git to reflect on this report. See Troubleshooting Build Report for more information.
- Use the following Renviron settings to reproduce errors and warnings.
- If 'R CMD check' started to fail recently on the Linux builder(s) over a missing dependency, add the missing dependency to 'Suggests:' in your DESCRIPTION file. See Renviron.bioc for more information.

raw results

Package 457/2321HostnameOS / ArchINSTALLBUILDCHECKBUILD BIN
cqn 1.57.0  (landing page)
Kasper Daniel Hansen
Snapshot Date: 2025-10-30 13:40 -0400 (Thu, 30 Oct 2025)
git_url: https://git.bioconductor.org/packages/cqn
git_branch: devel
git_last_commit: c3dc1bb
git_last_commit_date: 2025-10-29 10:07:59 -0400 (Wed, 29 Oct 2025)
nebbiolo1Linux (Ubuntu 24.04.3 LTS) / x86_64  OK    OK    OK  YES



Results for Bioconductor software packages that depend directly on package cqn

QUICK STATSOS / ArchINSTALLBUILDCHECKBUILD BIN
nebbiolo1Linux (Ubuntu 24.04.3 LTS) / x86_64
003
012
0110
Package 1/3HostnameOS / ArchINSTALLBUILDCHECKBUILD BIN
GeoTcgaData 2.11.0  (landing page)
Erqiang Hu
git_last_commit: 4541645
git_last_commit_date: 2025-10-29 11:21:53 -0400
nebbiolo1Linux (Ubuntu 24.04.3 LTS) / x86_64  OK    ERROR  skipped
Package 2/3HostnameOS / ArchINSTALLBUILDCHECKBUILD BIN
KnowSeq 1.25.0  (landing page)
Daniel Castillo-Secilla
git_last_commit: dda9488
git_last_commit_date: 2025-10-29 10:52:51 -0400
nebbiolo1Linux (Ubuntu 24.04.3 LTS) / x86_64  OK    OK    ERROR  
Package 3/3HostnameOS / ArchINSTALLBUILDCHECKBUILD BIN
tweeDEseq 1.57.0  (landing page)
Dolors Pelegri-Siso
git_last_commit: d453ad1
git_last_commit_date: 2025-10-29 10:09:35 -0400
nebbiolo1Linux (Ubuntu 24.04.3 LTS) / x86_64  OK    OK    WARNINGS  YES