Package: cpvSNP Version: 1.43.0 Command: /home/biocbuild/bbs-3.23-bioc/R/bin/R CMD INSTALL cpvSNP StartedAt: 2025-11-14 15:44:42 -0500 (Fri, 14 Nov 2025) EndedAt: 2025-11-14 15:45:24 -0500 (Fri, 14 Nov 2025) EllapsedTime: 41.3 seconds RetCode: 0 Status: OK