Package: cpvSNP Version: 1.43.0 Command: /home/biocbuild/bbs-3.23-bioc/R/bin/R CMD build --keep-empty-dirs --no-resave-data cpvSNP StartedAt: 2025-11-14 17:00:45 -0500 (Fri, 14 Nov 2025) EndedAt: 2025-11-14 17:01:48 -0500 (Fri, 14 Nov 2025) EllapsedTime: 63.0 seconds RetCode: 0 Status: OK PackageFile: cpvSNP_1.43.0.tar.gz PackageFileSize: 2.014 MiB