Package: covRNA Version: 1.37.0 Command: /home/biocbuild/bbs-3.23-bioc/R/bin/R CMD INSTALL covRNA StartedAt: 2025-11-20 15:28:54 -0500 (Thu, 20 Nov 2025) EndedAt: 2025-11-20 15:29:12 -0500 (Thu, 20 Nov 2025) EllapsedTime: 17.9 seconds RetCode: 0 Status: OK