Package: covRNA Version: 1.35.0 Command: /Library/Frameworks/R.framework/Resources/bin/R CMD INSTALL covRNA StartedAt: 2025-10-19 15:29:41 -0400 (Sun, 19 Oct 2025) EndedAt: 2025-10-19 15:30:05 -0400 (Sun, 19 Oct 2025) EllapsedTime: 24.6 seconds RetCode: 0 Status: OK