Package: covRNA Version: 1.35.0 Command: /Library/Frameworks/R.framework/Resources/bin/R CMD build --keep-empty-dirs --no-resave-data covRNA StartedAt: 2025-10-19 16:38:53 -0400 (Sun, 19 Oct 2025) EndedAt: 2025-10-19 16:40:12 -0400 (Sun, 19 Oct 2025) EllapsedTime: 79.0 seconds RetCode: 0 Status: OK PackageFile: covRNA_1.35.0.tar.gz PackageFileSize: 554.9 KiB