Package: covRNA Version: 1.35.0 Command: rm -rf covRNA.buildbin-libdir && mkdir covRNA.buildbin-libdir && /Users/biocbuild/BBS/utils/build-universal.sh covRNA_1.35.0.tar.gz /Library/Frameworks/R.framework/Resources/bin/R covRNA.buildbin-libdir StartedAt: 2025-10-20 03:03:36 -0400 (Mon, 20 Oct 2025) EndedAt: 2025-10-20 03:04:04 -0400 (Mon, 20 Oct 2025) EllapsedTime: 27.9 seconds RetCode: 0 Status: OK PackageFile: covRNA_1.35.0.tgz PackageFileSize: 591.3 KiB