Package: covRNA Version: 1.35.0 Command: rm -rf covRNA.buildbin-libdir && mkdir covRNA.buildbin-libdir && /Users/biocbuild/BBS/utils/build-universal.sh covRNA_1.35.0.tar.gz /Library/Frameworks/R.framework/Resources/bin/R covRNA.buildbin-libdir StartedAt: 2025-09-30 22:36:04 -0400 (Tue, 30 Sep 2025) EndedAt: 2025-09-30 22:36:13 -0400 (Tue, 30 Sep 2025) EllapsedTime: 8.2 seconds RetCode: 0 Status: OK PackageFile: covRNA_1.35.0.tgz PackageFileSize: 591.8 KiB