Package: covRNA Version: 1.37.0 Maintainer: Lara Urban MaintainerEmail: lara.h.urban at ebi.ac.uk git_url: https://git.bioconductor.org/packages/covRNA git_branch: devel git_last_commit: 041af1b git_last_commit_date: 2025-10-29 10:32:21 -0500 (Wed, 29 Oct 2025)