Package: covEB Version: 1.37.0 Command: /home/biocbuild/bbs-3.23-bioc/R/bin/R CMD INSTALL covEB StartedAt: 2025-11-20 15:12:01 -0500 (Thu, 20 Nov 2025) EndedAt: 2025-11-20 15:12:08 -0500 (Thu, 20 Nov 2025) EllapsedTime: 6.9 seconds RetCode: 0 Status: OK