Package: covEB Version: 1.37.0 Command: /home/biocbuild/bbs-3.23-bioc/R/bin/R CMD build --keep-empty-dirs --no-resave-data covEB StartedAt: 2025-11-20 17:00:30 -0500 (Thu, 20 Nov 2025) EndedAt: 2025-11-20 17:00:47 -0500 (Thu, 20 Nov 2025) EllapsedTime: 17.0 seconds RetCode: 0 Status: OK PackageFile: covEB_1.37.0.tar.gz PackageFileSize: 114.9 KiB