Package: covEB Version: 1.35.0 Command: rm -rf covEB.buildbin-libdir && mkdir covEB.buildbin-libdir && /Users/biocbuild/BBS/utils/build-universal.sh covEB_1.35.0.tar.gz /Library/Frameworks/R.framework/Resources/bin/R covEB.buildbin-libdir StartedAt: 2025-10-03 22:35:31 -0400 (Fri, 03 Oct 2025) EndedAt: 2025-10-03 22:35:35 -0400 (Fri, 03 Oct 2025) EllapsedTime: 4.1 seconds RetCode: 0 Status: OK PackageFile: covEB_1.35.0.tgz PackageFileSize: 150 KiB