Package: countsimQC Version: 1.27.1 Command: /home/biocbuild/R/R/bin/R CMD build --keep-empty-dirs --no-resave-data countsimQC StartedAt: 2025-10-20 22:58:37 -0000 (Mon, 20 Oct 2025) EndedAt: 2025-10-20 23:02:18 -0000 (Mon, 20 Oct 2025) EllapsedTime: 221.1 seconds RetCode: 0 Status: OK PackageFile: countsimQC_1.27.1.tar.gz PackageFileSize: 441.4 KiB