Package: countsimQC Version: 1.27.1 Command: /home/biocbuild/bbs-3.22-bioc/R/bin/R CMD check --install=check:countsimQC.install-out.txt --library=/home/biocbuild/bbs-3.22-bioc/R/site-library --timings countsimQC_1.27.1.tar.gz StartedAt: 2025-10-13 22:44:08 -0400 (Mon, 13 Oct 2025) EndedAt: 2025-10-13 22:59:11 -0400 (Mon, 13 Oct 2025) EllapsedTime: 903.1 seconds RetCode: 0 Status: OK CheckDir: countsimQC.Rcheck Warnings: 0